BEGIN:VCALENDAR
VERSION:2.0
PRODID:-//Marin County Women Lawyers - ECPv6.15.17.1//NONSGML v1.0//EN
CALSCALE:GREGORIAN
METHOD:PUBLISH
X-WR-CALNAME:Marin County Women Lawyers
X-ORIGINAL-URL:https://mcwlawyers.org
X-WR-CALDESC:Events for Marin County Women Lawyers
REFRESH-INTERVAL;VALUE=DURATION:PT1H
X-Robots-Tag:noindex
X-PUBLISHED-TTL:PT1H
BEGIN:VTIMEZONE
TZID:America/Los_Angeles
BEGIN:DAYLIGHT
TZOFFSETFROM:-0800
TZOFFSETTO:-0700
TZNAME:PDT
DTSTART:20240310T100000
END:DAYLIGHT
BEGIN:STANDARD
TZOFFSETFROM:-0700
TZOFFSETTO:-0800
TZNAME:PST
DTSTART:20241103T090000
END:STANDARD
BEGIN:DAYLIGHT
TZOFFSETFROM:-0800
TZOFFSETTO:-0700
TZNAME:PDT
DTSTART:20250309T100000
END:DAYLIGHT
BEGIN:STANDARD
TZOFFSETFROM:-0700
TZOFFSETTO:-0800
TZNAME:PST
DTSTART:20251102T090000
END:STANDARD
BEGIN:DAYLIGHT
TZOFFSETFROM:-0800
TZOFFSETTO:-0700
TZNAME:PDT
DTSTART:20260308T100000
END:DAYLIGHT
BEGIN:STANDARD
TZOFFSETFROM:-0700
TZOFFSETTO:-0800
TZNAME:PST
DTSTART:20261101T090000
END:STANDARD
END:VTIMEZONE
BEGIN:VEVENT
DTSTART;TZID=America/Los_Angeles:20250423T173000
DTEND;TZID=America/Los_Angeles:20250423T193000
DTSTAMP:20260424T150640
CREATED:20250409T030203Z
LAST-MODIFIED:20250423T032026Z
UID:3840-1745429400-1745436600@mcwlawyers.org
SUMMARY:MCWL's Spring Social
DESCRIPTION:MCWL members and their friends are warmly invited to join us!\nAs a special thank you\, members will enjoy their first glass of wine on us. \nIf you’re a lawyer but not currently an active MCWL member\, we invite you to renew or activate your membership today and be part of our community!
URL:https://mcwlawyers.org/event/mcwls-spring-social/
LOCATION:Sausalito Seahorse\, 305 Harbor Dr.\, Sausalito\, CA\, 94965
END:VEVENT
END:VCALENDAR