BEGIN:VCALENDAR
VERSION:2.0
PRODID:-//Marin County Women Lawyers - ECPv6.15.17.1//NONSGML v1.0//EN
CALSCALE:GREGORIAN
METHOD:PUBLISH
X-WR-CALNAME:Marin County Women Lawyers
X-ORIGINAL-URL:https://mcwlawyers.org
X-WR-CALDESC:Events for Marin County Women Lawyers
REFRESH-INTERVAL;VALUE=DURATION:PT1H
X-Robots-Tag:noindex
X-PUBLISHED-TTL:PT1H
BEGIN:VTIMEZONE
TZID:America/Los_Angeles
BEGIN:DAYLIGHT
TZOFFSETFROM:-0800
TZOFFSETTO:-0700
TZNAME:PDT
DTSTART:20250309T100000
END:DAYLIGHT
BEGIN:STANDARD
TZOFFSETFROM:-0700
TZOFFSETTO:-0800
TZNAME:PST
DTSTART:20251102T090000
END:STANDARD
BEGIN:DAYLIGHT
TZOFFSETFROM:-0800
TZOFFSETTO:-0700
TZNAME:PDT
DTSTART:20260308T100000
END:DAYLIGHT
BEGIN:STANDARD
TZOFFSETFROM:-0700
TZOFFSETTO:-0800
TZNAME:PST
DTSTART:20261101T090000
END:STANDARD
BEGIN:DAYLIGHT
TZOFFSETFROM:-0800
TZOFFSETTO:-0700
TZNAME:PDT
DTSTART:20270314T100000
END:DAYLIGHT
BEGIN:STANDARD
TZOFFSETFROM:-0700
TZOFFSETTO:-0800
TZNAME:PST
DTSTART:20271107T090000
END:STANDARD
END:VTIMEZONE
BEGIN:VEVENT
DTSTART;TZID=America/Los_Angeles:20260219T180000
DTEND;TZID=America/Los_Angeles:20260219T193000
DTSTAMP:20260424T033243
CREATED:20260210T004027Z
LAST-MODIFIED:20260218T234235Z
UID:4182-1771524000-1771529400@mcwlawyers.org
SUMMARY:State of the Uterus 2026
DESCRIPTION:Join Marin County Women Lawyers for our 9th Annual State of the Uterus Presentation featuring keynote speaker\, Mary Ziegler.  \nMary Ziegler is a Martin Luther King Jr. Professor of Law at UC Davis School of Law and expert on the law\, history\, and politics of reproduction\, healthcare\, and conservatism in the United States from 1945 to the present. \nSee Zoom info below.  \n\n \n\n\n  \n\n\n  \n  \n  \n  \n  \n  \n  \n  \n  \n  \n  \n  \n  \n  \nTopic: Marin County Women Lawyers \n\n\nTime: Feb 19\, 2026 18:00 Pacific Time (US and Canada) \n\n\nJoin Zoom Meeting \n\n\nhttps://us06web.zoom.us/j/81029705517 \n\n\n Meeting ID: 810 2970 5517 \n\n\n— \n\n\nOne tap mobile \n\n\n+16699006833\,\,81029705517# US (San Jose) \n\n\n+16694449171\,\,81029705517# US \n\n\nJoin instructions \n\n\nhttps://us06web.zoom.us/meetings/81029705517/invitations?signature=DOLsRjzRgFilMdxRj4w2RtEwieVu9qkZkMKoY7Y54w0
URL:https://mcwlawyers.org/event/state-of-the-uterus-2026/
LOCATION:Virtual Event
END:VEVENT
BEGIN:VEVENT
DTSTART;TZID=America/Los_Angeles:20260316T080000
DTEND;TZID=America/Los_Angeles:20260316T233000
DTSTAMP:20260424T033243
CREATED:20260317T040246Z
LAST-MODIFIED:20260317T040849Z
UID:4217-1773648000-1773703800@mcwlawyers.org
SUMMARY:Test
DESCRIPTION:
URL:https://mcwlawyers.org/event/test/
LOCATION:CA
END:VEVENT
BEGIN:VEVENT
DTSTART;TZID=America/Los_Angeles:20260919T180000
DTEND;TZID=America/Los_Angeles:20260919T210000
DTSTAMP:20260424T033243
CREATED:20260322T203514Z
LAST-MODIFIED:20260322T203514Z
UID:4223-1789840800-1789851600@mcwlawyers.org
SUMMARY:SAVE THE DATE: 50th Anniversary Party
DESCRIPTION:Please note that tickets for this event will go on sale closer to the events date. 
URL:https://mcwlawyers.org/event/save-the-date-50th-anniversary-party/
LOCATION:The Spinnaker Restaurant\, 100 Spinnaker Drive\, Sausalito\, CA
END:VEVENT
END:VCALENDAR