BEGIN:VCALENDAR
VERSION:2.0
PRODID:-//Marin County Women Lawyers - ECPv6.15.17.1//NONSGML v1.0//EN
CALSCALE:GREGORIAN
METHOD:PUBLISH
X-WR-CALNAME:Marin County Women Lawyers
X-ORIGINAL-URL:https://mcwlawyers.org
X-WR-CALDESC:Events for Marin County Women Lawyers
REFRESH-INTERVAL;VALUE=DURATION:PT1H
X-Robots-Tag:noindex
X-PUBLISHED-TTL:PT1H
BEGIN:VTIMEZONE
TZID:America/Los_Angeles
BEGIN:DAYLIGHT
TZOFFSETFROM:-0800
TZOFFSETTO:-0700
TZNAME:PDT
DTSTART:20210314T100000
END:DAYLIGHT
BEGIN:STANDARD
TZOFFSETFROM:-0700
TZOFFSETTO:-0800
TZNAME:PST
DTSTART:20211107T090000
END:STANDARD
BEGIN:DAYLIGHT
TZOFFSETFROM:-0800
TZOFFSETTO:-0700
TZNAME:PDT
DTSTART:20220313T100000
END:DAYLIGHT
BEGIN:STANDARD
TZOFFSETFROM:-0700
TZOFFSETTO:-0800
TZNAME:PST
DTSTART:20221106T090000
END:STANDARD
BEGIN:DAYLIGHT
TZOFFSETFROM:-0800
TZOFFSETTO:-0700
TZNAME:PDT
DTSTART:20230312T100000
END:DAYLIGHT
BEGIN:STANDARD
TZOFFSETFROM:-0700
TZOFFSETTO:-0800
TZNAME:PST
DTSTART:20231105T090000
END:STANDARD
END:VTIMEZONE
BEGIN:VEVENT
DTSTART;TZID=America/Los_Angeles:20220602T171500
DTEND;TZID=America/Los_Angeles:20220602T191500
DTSTAMP:20260425T035935
CREATED:20220502T134223Z
LAST-MODIFIED:20220513T233739Z
UID:2719-1654190100-1654197300@mcwlawyers.org
SUMMARY:MCWL Members' Meeting
DESCRIPTION:Join us for MCWL’s First 2022 In-Person Members’ Meeting and Social!\nCome mingle with old friends and meet new ones! We will hold a vote on the 2022 Board Slate.\n  \nView the MCWL 2022 Board Slate.\nHosted by Lois Prentice at (415) 332-1066
URL:https://mcwlawyers.org/event/mcwl-members-meeting/
LOCATION:Sausalito Seahorse\, 305 Harbor Dr.\, Sausalito\, CA\, 94965
END:VEVENT
BEGIN:VEVENT
DTSTART;TZID=America/Los_Angeles:20220531T120000
DTEND;TZID=America/Los_Angeles:20220531T130000
DTSTAMP:20260425T035935
CREATED:20220502T132827Z
LAST-MODIFIED:20220519T224346Z
UID:2714-1653998400-1654002000@mcwlawyers.org
SUMMARY:Walk in the Park!
DESCRIPTION:Join us for a Walk in the Park!\n \nMCWL invites you to come out for a stroll around the Civic Center Lagoon. Meet at the Jury Parking Lot by Bocce Ball Courts. Dogs welcome! Masks welcome too! Light snacks and water provided.\n \nTuesday\, May 31 @ noon.\n \nRSVP to shelley.kramer78@gmail.com Cell 415-298-5664\nRain cancels\, but then we’ll have RAIN\, YAY!
URL:https://mcwlawyers.org/event/2714/
LOCATION:Civic Center Lagoon\, San Rafael\, CA
END:VEVENT
BEGIN:VEVENT
DTSTART;TZID=America/Los_Angeles:20220525T163000
DTEND;TZID=America/Los_Angeles:20220525T183000
DTSTAMP:20260425T035935
CREATED:20220502T135907Z
LAST-MODIFIED:20220519T225100Z
UID:2730-1653496200-1653503400@mcwlawyers.org
SUMMARY:CWL Event: Celebrating Ourselves and the Women of the Supreme Court
DESCRIPTION:A California Women Lawyer’s Event!\nMCLE Credit 2.0 – Elimination of Bias in the Legal Profession and Society\n  \nCelebrating Ourselves and the Women of the Supreme Court\nOn April 7\, 2022\, the Senate confirmed Judge Ketanji Brown Jackson’s nomination to become the 116th Associate Justice of the United States Supreme Court. Of the 116 justices to serve on the Supreme Court\, all but seven have been white men. Six of these individuals have been women: Sandra Day O’Connor\, Ruth Bader Ginsburg\, Sonia Sotomayor\, Elena Kagan\, Amy Coney Barrett\, and Ketanji Brown Jackson. These women are a small minority of the justices that have served on the highest court in the country\, but they have nonetheless contributed to the Supreme Court in their own\, unique ways. Sandra was the first woman\, Ruth the first Jewish woman\, Sonia the first Latina\, and Ketanji is the first African American woman.\nPlease join for a frank discussion of our past\, present\, and future of the court.\nRegister HERE.\nPanelists:\nHon. Marguerite D. Downing\, Los Angeles Superior Court\nHon. Connie R. Quinones\, Los Angeles Superior Court\nHon. Anita L. Santos\, Contra Costa Superior Court\nCo-Moderators:\nMichele Anderson\, Esq. – Los Angeles City Attorney’s Office\nPatanisha Davis-Pierson\, Esq. – Key Counsel. P.C.\nPricing:\n$25.00 CWL Members\n$50.00 CWL Non-Members\n 
URL:https://mcwlawyers.org/event/cwl-event/
LOCATION:CA
END:VEVENT
BEGIN:VEVENT
DTSTART;TZID=America/Los_Angeles:20220221T120000
DTEND;TZID=America/Los_Angeles:20220221T130000
DTSTAMP:20260425T035935
CREATED:20220212T153816Z
LAST-MODIFIED:20220212T153816Z
UID:2706-1645444800-1645448400@mcwlawyers.org
SUMMARY:Presidents Day Walk in The Park!
DESCRIPTION:Join us for a Walk in the Park!\n\nMCWL invites you to come out for a stroll around the Civic Center Lagoon.\nDogs welcome! Masks welcome too! \nPresident’s Day–Monday\, Feb. 22 @ noon\nMeet at Jury Parking Lot\nLight snacks and water provided.\nRSVP TO: shelley.kramer78@gmail.com\nCell 415-298 5664
URL:https://mcwlawyers.org/event/presidents-day-walk-in-the-park/
LOCATION:Civic Center Lagoon\, San Rafael\, CA
END:VEVENT
END:VCALENDAR