BEGIN:VCALENDAR
VERSION:2.0
PRODID:-//Marin County Women Lawyers - ECPv6.15.17.1//NONSGML v1.0//EN
CALSCALE:GREGORIAN
METHOD:PUBLISH
X-WR-CALNAME:Marin County Women Lawyers
X-ORIGINAL-URL:https://mcwlawyers.org
X-WR-CALDESC:Events for Marin County Women Lawyers
REFRESH-INTERVAL;VALUE=DURATION:PT1H
X-Robots-Tag:noindex
X-PUBLISHED-TTL:PT1H
BEGIN:VTIMEZONE
TZID:America/Los_Angeles
BEGIN:DAYLIGHT
TZOFFSETFROM:-0800
TZOFFSETTO:-0700
TZNAME:PDT
DTSTART:20240310T100000
END:DAYLIGHT
BEGIN:STANDARD
TZOFFSETFROM:-0700
TZOFFSETTO:-0800
TZNAME:PST
DTSTART:20241103T090000
END:STANDARD
BEGIN:DAYLIGHT
TZOFFSETFROM:-0800
TZOFFSETTO:-0700
TZNAME:PDT
DTSTART:20250309T100000
END:DAYLIGHT
BEGIN:STANDARD
TZOFFSETFROM:-0700
TZOFFSETTO:-0800
TZNAME:PST
DTSTART:20251102T090000
END:STANDARD
BEGIN:DAYLIGHT
TZOFFSETFROM:-0800
TZOFFSETTO:-0700
TZNAME:PDT
DTSTART:20260308T100000
END:DAYLIGHT
BEGIN:STANDARD
TZOFFSETFROM:-0700
TZOFFSETTO:-0800
TZNAME:PST
DTSTART:20261101T090000
END:STANDARD
END:VTIMEZONE
BEGIN:VEVENT
DTSTART;TZID=America/Los_Angeles:20250312T173000
DTEND;TZID=America/Los_Angeles:20250312T193000
DTSTAMP:20260424T150641
CREATED:20250302T185730Z
LAST-MODIFIED:20250312T213751Z
UID:3807-1741800600-1741807800@mcwlawyers.org
SUMMARY:March Social - CANCELLED DUE TO WEATHER
DESCRIPTION:OUR VENUE FOR THIS EVENING’S SOCIAL HAD TO CLOSE ITS DOORS DUE TO THE STORM. \nWE WILL RESCHEDULE AS SOON AS WE ARE ABLE. \n \nThis is a free event for MCWL members\, and your first beverage is on us. If you are not a member\, or if your membership is inactive\, please sign up for a 2025 membership before RSVP’ing.
URL:https://mcwlawyers.org/event/march-social/
LOCATION:The Seahorse\, Sausalito\, CA\, 305 Harbor Drive\, Sausalito\, CA\, 94965\, United States
END:VEVENT
BEGIN:VEVENT
DTSTART;TZID=America/Los_Angeles:20250318T173000
DTEND;TZID=America/Los_Angeles:20250318T190000
DTSTAMP:20260424T150641
CREATED:20250315T222548Z
LAST-MODIFIED:20250315T222821Z
UID:3831-1742319000-1742324400@mcwlawyers.org
SUMMARY:The Project of Gender Equality 2025
DESCRIPTION:March is Women’s History Month\, and the Minority Bar Coalition invites you to be part \nof a free webinar “The Project of Gender Equality in 2025”. \nThe webinar’s panel will celebrate women’s rights and provide education on how a changing political landscape directly impacts women’s rights. The discussion will explore\, among other things\,  how implicit biases influence legal decisions\, policies\, and access to justice in areas such as reproductive rights\, constitutional rights\, and racial disparities. Panelists will also examine bias-reducing strategies to promote fairness and equality in the legal system. \nThis program offers 1.5 hours of Implicit Bias\, MCLE self study credit. \nTuesday\, March 18\, 5:30 to 7 pm \nClick HERE to register.
URL:https://mcwlawyers.org/event/the-project-of-gender-equality-2025/
LOCATION:Virtual Event
END:VEVENT
END:VCALENDAR